BEGIN:VCALENDAR
VERSION:2.0
PRODID:SchoolNow
CALSCALE:GREGORIAN
BEGIN:VEVENT
UID:c04766be-1072-11ea-b81a-0afec197fbf9
DTSTAMP:20191126T181844Z
SUMMARY:Make-Up Picture Day
URL;VALUE=URI:https://www.kippsocal.org/raices/calendar/2151698/make-up-pic
 ture-day
DTSTART;VALUE=DATE:20191204
DTEND;VALUE=DATE:20191205
END:VEVENT
END:VCALENDAR
