BEGIN:VCALENDAR
VERSION:2.0
PRODID:SchoolNow
CALSCALE:GREGORIAN
BEGIN:VEVENT
UID:2c24b9b6-1070-11ea-96a0-1297e66f084b
DTSTAMP:20191126T173918Z
SUMMARY:Thanksgiving Break
LOCATION:KIPP Raices
URL;VALUE=URI:https://www.kippsocal.org/raices/calendar/2151686/thanksgivin
 g-break
DTSTART;VALUE=DATE:20191125
DTEND;VALUE=DATE:20191130
END:VEVENT
END:VCALENDAR
