BEGIN:VCALENDAR
VERSION:2.0
PRODID:SchoolNow
CALSCALE:GREGORIAN
BEGIN:VEVENT
UID:cd8abfd0-b9de-11f0-815b-0a58a9feac02
DTSTAMP:20251105T003143Z
SUMMARY:Weekly School Tours
URL;VALUE=URI:https://www.kippsocal.org/opportunity/calendar/8777734/weekly
 -school-tours-clone-clone
DTSTART:20251201T223000Z
DTEND:20251202T003000Z
END:VEVENT
END:VCALENDAR
