BEGIN:VCALENDAR
VERSION:2.0
PRODID:SchoolNow
CALSCALE:GREGORIAN
BEGIN:VEVENT
UID:b53e15e4-b9de-11f0-b7ae-0affd0ed08b3
DTSTAMP:20251105T003102Z
SUMMARY:Weekly School Tours
URL;VALUE=URI:https://www.kippsocal.org/opportunity/calendar/8777732/weekly
 -school-tours
DTSTART:20251110T223000Z
DTEND:20251111T003000Z
END:VEVENT
END:VCALENDAR
