BEGIN:VCALENDAR
VERSION:2.0
PRODID:SchoolNow
CALSCALE:GREGORIAN
BEGIN:VEVENT
UID:ee73163c-b4fe-11f0-a384-0285a35182b7
DTSTAMP:20251029T193906Z
SUMMARY:Weekly School Tour
URL;VALUE=URI:https://www.kippsocal.org/opportunity/calendar/8760105/weekly
 -school-tour-clone-clone-clone-clone-clone
DTSTART:20251215T223000Z
DTEND:20251216T003000Z
END:VEVENT
END:VCALENDAR
