BEGIN:VCALENDAR
VERSION:2.0
PRODID:SchoolNow
CALSCALE:GREGORIAN
BEGIN:VEVENT
UID:e82cd2a4-b4fe-11f0-92dc-0285a35182b7
DTSTAMP:20251029T193855Z
SUMMARY:Weekly School Tour
URL;VALUE=URI:https://www.kippsocal.org/opportunity/calendar/8760104/weekly
 -school-tour-clone-clone-clone-clone
DTSTART:20251208T223000Z
DTEND:20251209T003000Z
END:VEVENT
END:VCALENDAR
