BEGIN:VCALENDAR
VERSION:2.0
PRODID:SchoolNow
CALSCALE:GREGORIAN
BEGIN:VEVENT
UID:d57f1fd6-b4fe-11f0-bdfb-0afffa06ec9d
DTSTAMP:20251105T003128Z
SUMMARY:Weekly School Tour
URL;VALUE=URI:https://www.kippsocal.org/opportunity/calendar/8760101/weekly
 -school-tour-clone
DTSTART:20251117T223000Z
DTEND:20251118T003000Z
END:VEVENT
END:VCALENDAR
