BEGIN:VCALENDAR
VERSION:2.0
PRODID:SchoolNow
CALSCALE:GREGORIAN
BEGIN:VEVENT
UID:cccf7214-b4fe-11f0-9d12-02d638c68707
DTSTAMP:20251029T193810Z
SUMMARY:Weekly School Tour
URL;VALUE=URI:https://www.kippsocal.org/opportunity/calendar/8760100/weekly
 -school-tour
DTSTART:20251103T223000Z
DTEND:20251104T003000Z
END:VEVENT
END:VCALENDAR
