BEGIN:VCALENDAR
VERSION:2.0
PRODID:SchoolNow
CALSCALE:GREGORIAN
BEGIN:VEVENT
UID:a048cf20-9b35-11f0-b68e-0a58a9feac02
DTSTAMP:20250927T000507Z
SUMMARY:KAO Renewal Vote
LOCATION:333 S. Beaudry Ave.\, Los Angeles\, CA 90017
URL;VALUE=URI:https://www.kippsocal.org/opportunity/calendar/8669247/kao-re
 newal-vote
DTSTART;VALUE=DATE:20251014
DTEND;VALUE=DATE:20251015
END:VEVENT
END:VCALENDAR
