BEGIN:VCALENDAR
VERSION:2.0
PRODID:SchoolNow
CALSCALE:GREGORIAN
BEGIN:VEVENT
UID:7402b58e-9b35-11f0-b14c-0a58a9feac02
DTSTAMP:20250927T000715Z
SUMMARY:KAO Renewal Recommendation Posted
URL;VALUE=URI:https://www.kippsocal.org/opportunity/calendar/8669246/lausd-
 renewal-recommendation-for-kao-posted
DTSTART;VALUE=DATE:20250929
DTEND;VALUE=DATE:20250930
END:VEVENT
END:VCALENDAR
