BEGIN:VCALENDAR
VERSION:2.0
PRODID:SchoolNow
CALSCALE:GREGORIAN
BEGIN:VEVENT
UID:eb44ef64-6bff-11f0-a288-0a58a9feac02
DTSTAMP:20250728T221215Z
SUMMARY:7th/8th Grades Family Orientation
URL;VALUE=URI:https://www.kippsocal.org/opportunity/calendar/8453764/7th-8t
 h-grades-family-orientation
DTSTART:20250730T160000Z
DTEND:20250730T173000Z
END:VEVENT
END:VCALENDAR
