BEGIN:VCALENDAR
VERSION:2.0
PRODID:SchoolNow
CALSCALE:GREGORIAN
BEGIN:VEVENT
UID:c4fcf874-6bff-11f0-bbb2-0a58a9feac02
DTSTAMP:20250728T221111Z
SUMMARY:5th/6th Grades Family Orientation
URL;VALUE=URI:https://www.kippsocal.org/opportunity/calendar/8453763/5th-6t
 h-grades-family-orientation
DTSTART:20250729T160000Z
DTEND:20250729T173000Z
END:VEVENT
END:VCALENDAR
