BEGIN:VCALENDAR
VERSION:2.0
PRODID:SchoolNow
CALSCALE:GREGORIAN
BEGIN:VEVENT
UID:76ec1260-d2cf-11ef-9568-0a58a9feac02
DTSTAMP:20250115T000052Z
SUMMARY:Open House
URL;VALUE=URI:https://www.kippsocal.org/opportunity/calendar/7317436/open-h
 ouse
DTSTART:20250129T230000Z
DTEND:20250130T000000Z
END:VEVENT
END:VCALENDAR
