BEGIN:VCALENDAR
VERSION:2.0
PRODID:SchoolNow
CALSCALE:GREGORIAN
BEGIN:VEVENT
UID:adfb0572-1f01-11ef-b8c5-0affe555dbdb
DTSTAMP:20240531T035554Z
SUMMARY:8th Grade Family Orientation
URL;VALUE=URI:https://www.kippsocal.org/opportunity/calendar/6055068/holida
 y-no-school-day-clone-clone
DTSTART;VALUE=DATE:20240808
DTEND;VALUE=DATE:20240809
END:VEVENT
END:VCALENDAR
