BEGIN:VCALENDAR
VERSION:2.0
PRODID:SchoolNow
CALSCALE:GREGORIAN
BEGIN:VEVENT
UID:983b6dbc-1f01-11ef-8c7f-0a58a9feac02
DTSTAMP:20240531T035518Z
SUMMARY:7th Grade Family Orientation
URL;VALUE=URI:https://www.kippsocal.org/opportunity/calendar/6055067/holida
 y-no-school-day-clone-clone
DTSTART;VALUE=DATE:20240807
DTEND;VALUE=DATE:20240808
END:VEVENT
END:VCALENDAR
