BEGIN:VCALENDAR
VERSION:2.0
PRODID:SchoolNow
CALSCALE:GREGORIAN
BEGIN:VEVENT
UID:82363e66-1f01-11ef-95e8-0a58a9feac02
DTSTAMP:20240531T035441Z
SUMMARY:6th Grade Family Orientation
URL;VALUE=URI:https://www.kippsocal.org/opportunity/calendar/6055066/holida
 y-no-school-day-clone-clone
DTSTART;VALUE=DATE:20240806
DTEND;VALUE=DATE:20240807
END:VEVENT
END:VCALENDAR
