BEGIN:VCALENDAR
VERSION:2.0
PRODID:SchoolNow
CALSCALE:GREGORIAN
BEGIN:VEVENT
UID:65514ea8-1f01-11ef-a1f2-0a58a9feac02
DTSTAMP:20240531T035352Z
SUMMARY:5th Grade Family Orientation
URL;VALUE=URI:https://www.kippsocal.org/opportunity/calendar/6055065/holida
 y-no-school-day-clone
DTSTART;VALUE=DATE:20240805
DTEND;VALUE=DATE:20240806
END:VEVENT
END:VCALENDAR
