BEGIN:VCALENDAR
VERSION:2.0
PRODID:SchoolNow
CALSCALE:GREGORIAN
BEGIN:VEVENT
UID:9712f0a0-4454-11ee-907f-0a056ed84ddd
DTSTAMP:20230826T210739Z
SUMMARY:Holiday | No School Day
URL;VALUE=URI:https://www.kippsocal.org/opportunity/calendar/4633703/holida
 y-no-school-day
DTSTART;VALUE=DATE:20240219
DTEND;VALUE=DATE:20240220
END:VEVENT
END:VCALENDAR
