BEGIN:VCALENDAR
VERSION:2.0
PRODID:SchoolNow
CALSCALE:GREGORIAN
BEGIN:VEVENT
UID:97123af2-4454-11ee-b59b-0a056ed84ddd
DTSTAMP:20230826T210739Z
SUMMARY:Holiday | No School Day
URL;VALUE=URI:https://www.kippsocal.org/opportunity/calendar/4633702/holida
 y-no-school-day
DTSTART;VALUE=DATE:20240115
DTEND;VALUE=DATE:20240116
END:VEVENT
END:VCALENDAR
