BEGIN:VCALENDAR
VERSION:2.0
PRODID:SchoolNow
CALSCALE:GREGORIAN
BEGIN:VEVENT
UID:8992c264-d2cb-11ef-acbd-0e0fc38d3f23
DTSTAMP:20250115T000116Z
SUMMARY:Open House
URL;VALUE=URI:https://www.kippsocal.org/laprep/calendar/7317427/open-house
DTSTART:20250210T220000Z
DTEND:20250210T230000Z
END:VEVENT
END:VCALENDAR
