BEGIN:VCALENDAR
VERSION:2.0
PRODID:SchoolNow
CALSCALE:GREGORIAN
BEGIN:VEVENT
UID:b6ecef3a-3345-11ef-9fe6-0affc6eabc75
DTSTAMP:20240625T225318Z
SUMMARY:Family Orientation: 6th-8th Grade
URL;VALUE=URI:https://www.kippsocal.org/laprep/calendar/6168003/holiday-no-
 school-day-clone-clone
DTSTART;VALUE=DATE:20240812
DTEND;VALUE=DATE:20240813
END:VEVENT
END:VCALENDAR
