BEGIN:VCALENDAR
VERSION:2.0
PRODID:SchoolNow
CALSCALE:GREGORIAN
BEGIN:VEVENT
UID:9e0ca3fc-3345-11ef-934a-0affc6eabc75
DTSTAMP:20240625T225237Z
SUMMARY:Family Orientation: 5th Grade
URL;VALUE=URI:https://www.kippsocal.org/laprep/calendar/6168002/holiday-no-
 school-day-clone
DTSTART;VALUE=DATE:20240812
DTEND;VALUE=DATE:20240813
END:VEVENT
END:VCALENDAR
