BEGIN:VCALENDAR
VERSION:2.0
PRODID:SchoolNow
CALSCALE:GREGORIAN
BEGIN:VEVENT
UID:e7aabd54-4454-11ee-a8c2-0221131887f9
DTSTAMP:20230826T210954Z
SUMMARY:Holiday | No School Day
URL;VALUE=URI:https://www.kippsocal.org/laprep/calendar/4633761/holiday-no-
 school-day
DTSTART;VALUE=DATE:20240527
DTEND;VALUE=DATE:20240528
END:VEVENT
END:VCALENDAR
