BEGIN:VCALENDAR
VERSION:2.0
PRODID:SchoolNow
CALSCALE:GREGORIAN
BEGIN:VEVENT
UID:e7a4f46e-4454-11ee-b617-0221131887f9
DTSTAMP:20230826T210954Z
SUMMARY:Winter Break | No School
URL;VALUE=URI:https://www.kippsocal.org/laprep/calendar/4633757/winter-brea
 k-no-school
DTSTART;VALUE=DATE:20231218
DTEND;VALUE=DATE:20240106
END:VEVENT
END:VCALENDAR
