BEGIN:VCALENDAR
VERSION:2.0
PRODID:SchoolNow
CALSCALE:GREGORIAN
BEGIN:VEVENT
UID:e79f1e18-4454-11ee-aa83-0221131887f9
DTSTAMP:20230826T210954Z
SUMMARY:Holiday | No School Day
URL;VALUE=URI:https://www.kippsocal.org/laprep/calendar/4633754/holiday-no-
 school-day
DTSTART;VALUE=DATE:20231009
DTEND;VALUE=DATE:20231010
END:VEVENT
END:VCALENDAR
