BEGIN:VCALENDAR
VERSION:2.0
PRODID:SchoolNow
CALSCALE:GREGORIAN
BEGIN:VEVENT
UID:de3e9d90-e32f-11eb-bfc0-0a39880a93d5
DTSTAMP:20210712T180441Z
SUMMARY:Uniform Sale
URL;VALUE=URI:https://www.kippsocal.org/laprep/calendar/2637600/uniform-sal
 e
DTSTART:20210712T163800Z
DTEND:20210816T173800Z
END:VEVENT
END:VCALENDAR
