BEGIN:VCALENDAR
VERSION:2.0
PRODID:SchoolNow
CALSCALE:GREGORIAN
BEGIN:VEVENT
UID:76b2c586-5756-11ea-a202-1261c7e68897
DTSTAMP:20200309T171517Z
SUMMARY:The 6th Annual Family Math Night
URL;VALUE=URI:https://www.kippsocal.org/laprep/calendar/2206670/the-6th-ann
 ual-family-math-night
DTSTART:20200501T000000Z
DTEND:20200501T013000Z
END:VEVENT
END:VCALENDAR
