BEGIN:VCALENDAR
VERSION:2.0
PRODID:SchoolNow
CALSCALE:GREGORIAN
BEGIN:VEVENT
UID:9165c604-5755-11ea-9ae7-12d9c859b695
DTSTAMP:20200225T162306Z
SUMMARY:10th Annual Literacy Night
URL;VALUE=URI:https://www.kippsocal.org/laprep/calendar/2206669/10th-annual
 -literacy-night
DTSTART:20200228T010000Z
DTEND:20200228T023000Z
ATTACH;FILENAME=Welcome to the jungle! (1).pdf;FMTTYPE=application/pdf:http
 s://campussuite-storage.s3.amazonaws.com/prod/735103/5e2e7db8-b8d5-11e6-bf
 0d-22000bd8490f/2055303/6ebf15c8-573d-11ea-94b4-0aa93297720b/file/Welcome 
 to the jungle! (1).pdf
ATTACH;FILENAME=Welcome to the jungle! (2).pdf;FMTTYPE=application/pdf:http
 s://campussuite-storage.s3.amazonaws.com/prod/735103/5e2e7db8-b8d5-11e6-bf
 0d-22000bd8490f/2055308/7c33e5a8-573d-11ea-a5dd-0aa93297720b/file/Welcome 
 to the jungle! (2).pdf
END:VEVENT
END:VCALENDAR
