BEGIN:VCALENDAR
VERSION:2.0
PRODID:SchoolNow
CALSCALE:GREGORIAN
BEGIN:VEVENT
UID:507d29a6-5729-11ea-885e-0ae042c34773
DTSTAMP:20200225T162314Z
SUMMARY:Coffee with the School Leader at 8:30 AM
URL;VALUE=URI:https://www.kippsocal.org/laprep/calendar/2206302/coffee-with
 -the-school-leader-at-8-30-am
DTSTART:20200320T153000Z
DTEND:20200320T162000Z
END:VEVENT
END:VCALENDAR
