BEGIN:VCALENDAR
VERSION:2.0
PRODID:SchoolNow
CALSCALE:GREGORIAN
BEGIN:VEVENT
UID:efbc5872-5727-11ea-95c6-1261c7e68897
DTSTAMP:20200225T162334Z
SUMMARY:Cesar Chavez Day
URL;VALUE=URI:https://www.kippsocal.org/laprep/calendar/2206301/cesar-chave
 z-day
DTSTART:20200403T160300Z
DTEND:20200403T170300Z
END:VEVENT
END:VCALENDAR
