BEGIN:VCALENDAR
VERSION:2.0
PRODID:SchoolNow
CALSCALE:GREGORIAN
BEGIN:VEVENT
UID:8b64127a-5727-11ea-b2c7-0aa93297720b
DTSTAMP:20200225T164411Z
SUMMARY:Spring Break Week
URL;VALUE=URI:https://www.kippsocal.org/laprep/calendar/2206300/spring-brea
 k-week
DTSTART:20200406T155900Z
DTEND:20200410T165900Z
END:VEVENT
END:VCALENDAR
