BEGIN:VCALENDAR
VERSION:2.0
PRODID:SchoolNow
CALSCALE:GREGORIAN
BEGIN:VEVENT
UID:0fb1cff4-ff30-11e9-9708-129e7c0e91d0
DTSTAMP:20191104T182229Z
SUMMARY:Interest Period Deadline
URL;VALUE=URI:https://www.kippsocal.org/laprep/calendar/2138657/interest-pe
 riod-deadline
DTSTART:20200130T230000Z
DTEND:20200131T000000Z
END:VEVENT
END:VCALENDAR
