BEGIN:VCALENDAR
VERSION:2.0
PRODID:SchoolNow
CALSCALE:GREGORIAN
BEGIN:VEVENT
UID:4b351570-f9c9-11e9-8009-12d66cac4f6a
DTSTAMP:20191030T212320Z
SUMMARY:Winter Break
URL;VALUE=URI:https://www.kippsocal.org/laprep/calendar/2133853/winter-brea
 k
DTSTART;VALUE=DATE:20191223
DTEND;VALUE=DATE:20200111
END:VEVENT
END:VCALENDAR
