BEGIN:VCALENDAR
VERSION:2.0
PRODID:SchoolNow
CALSCALE:GREGORIAN
BEGIN:VEVENT
UID:7cb217a2-f9c8-11e9-a046-12d66cac4f6a
DTSTAMP:20191030T212329Z
SUMMARY:Canned Food Drive
URL;VALUE=URI:https://www.kippsocal.org/laprep/calendar/2133852/canned-food
 -drive
DTSTART;VALUE=DATE:20191104
DTEND;VALUE=DATE:20191123
ATTACH;FILENAME=CANNED FOOD DRIVE FLYER.pdf;FMTTYPE=application/pdf:https:/
 /campussuite-storage.s3.amazonaws.com/prod/735103/5e2e7db8-b8d5-11e6-bf0d-
 22000bd8490f/2005570/0149a1ee-f9d1-11e9-902d-12d66cac4f6a/file/CANNED FOOD
  DRIVE FLYER.pdf
END:VEVENT
END:VCALENDAR
