BEGIN:VCALENDAR
VERSION:2.0
PRODID:SchoolNow
CALSCALE:GREGORIAN
BEGIN:VEVENT
UID:cfa34e22-f9af-11e9-a62a-0a4647d903a7
DTSTAMP:20191030T212408Z
SUMMARY:Coffee with the Principal
URL;VALUE=URI:https://www.kippsocal.org/laprep/calendar/2133598/coffee-with
 -the-pricipal
DTSTART:20191115T163000Z
DTEND:20191115T173000Z
END:VEVENT
END:VCALENDAR
