BEGIN:VCALENDAR
VERSION:2.0
PRODID:SchoolNow
CALSCALE:GREGORIAN
BEGIN:VEVENT
UID:13172338-f9ae-11e9-bf3a-12deee35d7d0
DTSTAMP:20191030T212356Z
SUMMARY:Veteran's Day | No School
URL;VALUE=URI:https://www.kippsocal.org/laprep/calendar/2133595/veterans-da
 y-no-school
DTSTART;VALUE=DATE:20191111
DTEND;VALUE=DATE:20191112
END:VEVENT
END:VCALENDAR
