BEGIN:VCALENDAR
VERSION:2.0
PRODID:SchoolNow
CALSCALE:GREGORIAN
BEGIN:VEVENT
UID:db076b9e-f51e-11e9-8c42-12b663782eda
DTSTAMP:20191030T212309Z
SUMMARY:Parent Conferences Week- 12pm Dismissal
URL;VALUE=URI:https://www.kippsocal.org/laprep/calendar/2127460/parent-conf
 erences-week
DTSTART;VALUE=DATE:20191104
DTEND;VALUE=DATE:20191109
END:VEVENT
END:VCALENDAR
