BEGIN:VCALENDAR
VERSION:2.0
PRODID:SchoolNow
CALSCALE:GREGORIAN
BEGIN:VEVENT
UID:e79c074a-db0e-11e9-bec4-124a98991782
DTSTAMP:20190923T132512Z
SUMMARY:Norm & Picture Day
DESCRIPTION:Norm and Picture Day
URL;VALUE=URI:https://www.kippsocal.org/laprep/calendar/2099093/10-02-2019-
 norm-and-picture-day
DTSTART;VALUE=DATE:20191002
DTEND;VALUE=DATE:20191003
ATTACH;FILENAME=NormDayENG.pdf;FMTTYPE=application/pdf:https://campussuite-
 storage.s3.amazonaws.com/prod/735103/5e2e7db8-b8d5-11e6-bf0d-22000bd8490f/
 1986386/4a9ace2c-db0e-11e9-a5a0-0ae9171d3de4/file/NormDayENG.pdf
ATTACH;FILENAME=NormDaySPAN.pdf;FMTTYPE=application/pdf:https://campussuite
 -storage.s3.amazonaws.com/prod/735103/5e2e7db8-b8d5-11e6-bf0d-22000bd8490f
 /1986387/4a9ad214-db0e-11e9-a49a-0ae9171d3de4/file/NormDaySPAN.pdf
END:VEVENT
END:VCALENDAR
