BEGIN:VCALENDAR
VERSION:2.0
PRODID:SchoolNow
CALSCALE:GREGORIAN
BEGIN:VEVENT
UID:2649b1d2-ae40-11e9-8b97-0afbcd9e1ad0
DTSTAMP:20190724T182335Z
SUMMARY:First Day of School
URL;VALUE=URI:https://www.kippsocal.org/laprep/calendar/2037419/first-day-o
 f-school
DTSTART;VALUE=DATE:20190819
DTEND;VALUE=DATE:20190820
END:VEVENT
END:VCALENDAR
