BEGIN:VCALENDAR
VERSION:2.0
PRODID:SchoolNow
CALSCALE:GREGORIAN
BEGIN:VEVENT
UID:a210cb1e-d1ae-11f0-aa9e-020fd1fbdfd5
DTSTAMP:20251205T074722Z
SUMMARY:Open House (Zoom)
URL;VALUE=URI:https://www.kippsocal.org/iluminar/calendar/8818190/open-hous
 e-zoom
DTSTART:20251211T230000Z
DTEND:20251212T000000Z
END:VEVENT
END:VCALENDAR
