BEGIN:VCALENDAR
VERSION:2.0
PRODID:SchoolNow
CALSCALE:GREGORIAN
BEGIN:VEVENT
UID:d5d7cff8-c725-11f0-ab44-0a58a9feac02
DTSTAMP:20251121T234013Z
SUMMARY:Open House (Zoom)
URL;VALUE=URI:https://www.kippsocal.org/iluminar/calendar/8807683/open-hous
 e-zoom
DTSTART:20251212T000000Z
DTEND:20251212T010000Z
END:VEVENT
END:VCALENDAR
