BEGIN:VCALENDAR
VERSION:2.0
PRODID:SchoolNow
CALSCALE:GREGORIAN
BEGIN:VEVENT
UID:7a2bb994-c70c-11f0-acf9-0a58a9feac02
DTSTAMP:20251121T190125Z
SUMMARY:Open House (English)
URL;VALUE=URI:https://www.kippsocal.org/iluminar/calendar/8807478/open-hous
 e-english
DTSTART:20251120T190000Z
DTEND:20251120T200000Z
END:VEVENT
END:VCALENDAR
