BEGIN:VCALENDAR
VERSION:2.0
PRODID:SchoolNow
CALSCALE:GREGORIAN
BEGIN:VEVENT
UID:4c107f40-c70c-11f0-90c9-0a58a9feac02
DTSTAMP:20251121T190008Z
SUMMARY:Open House (Spanish)
URL;VALUE=URI:https://www.kippsocal.org/iluminar/calendar/8807477/open-hous
 e-spanish
DTSTART:20251112T220000Z
DTEND:20251112T230000Z
END:VEVENT
END:VCALENDAR
