BEGIN:VCALENDAR
VERSION:2.0
PRODID:SchoolNow
CALSCALE:GREGORIAN
BEGIN:VEVENT
UID:f799ae60-b9e0-11f0-bc7c-0affd0ed08b3
DTSTAMP:20251105T004712Z
SUMMARY:School Tour: Calendly Sign Up!
URL;VALUE=URI:https://www.kippsocal.org/iluminar/calendar/8777773/school-to
 ur-calendly-sign-up-clone-clone-clone-clone-clone-clone-clone-clone
DTSTART:20260128T170000Z
DTEND:20260128T200000Z
END:VEVENT
END:VCALENDAR
