BEGIN:VCALENDAR
VERSION:2.0
PRODID:SchoolNow
CALSCALE:GREGORIAN
BEGIN:VEVENT
UID:f11d849e-b9e0-11f0-a5a0-0a58a9feac02
DTSTAMP:20251105T004701Z
SUMMARY:School Tour: Calendly Sign Up!
URL;VALUE=URI:https://www.kippsocal.org/iluminar/calendar/8777772/school-to
 ur-calendly-sign-up-clone-clone-clone-clone-clone-clone-clone
DTSTART:20260121T170000Z
DTEND:20260121T200000Z
END:VEVENT
END:VCALENDAR
