BEGIN:VCALENDAR
VERSION:2.0
PRODID:SchoolNow
CALSCALE:GREGORIAN
BEGIN:VEVENT
UID:eab6b468-b9e0-11f0-8197-0afff3d351ff
DTSTAMP:20251105T004651Z
SUMMARY:School Tour: Calendly Sign Up!
URL;VALUE=URI:https://www.kippsocal.org/iluminar/calendar/8777771/school-to
 ur-calendly-sign-up-clone-clone-clone-clone-clone-clone
DTSTART:20260114T170000Z
DTEND:20260114T200000Z
END:VEVENT
END:VCALENDAR
