BEGIN:VCALENDAR
VERSION:2.0
PRODID:SchoolNow
CALSCALE:GREGORIAN
BEGIN:VEVENT
UID:e48d240a-b9e0-11f0-9bf7-0afffa06ec9d
DTSTAMP:20251105T004640Z
SUMMARY:School Tour: Calendly Sign Up!
URL;VALUE=URI:https://www.kippsocal.org/iluminar/calendar/8777770/school-to
 ur-calendly-sign-up-clone-clone-clone-clone-clone
DTSTART:20260107T170000Z
DTEND:20260107T200000Z
END:VEVENT
END:VCALENDAR
