BEGIN:VCALENDAR
VERSION:2.0
PRODID:SchoolNow
CALSCALE:GREGORIAN
BEGIN:VEVENT
UID:ddcff930-b9e0-11f0-9266-0e058de3dd31
DTSTAMP:20251105T004629Z
SUMMARY:School Tour: Calendly Sign Up!
URL;VALUE=URI:https://www.kippsocal.org/iluminar/calendar/8777769/school-to
 ur-calendly-sign-up-clone-clone-clone-clone
DTSTART:20251217T170000Z
DTEND:20251217T200000Z
END:VEVENT
END:VCALENDAR
