BEGIN:VCALENDAR
VERSION:2.0
PRODID:SchoolNow
CALSCALE:GREGORIAN
BEGIN:VEVENT
UID:d7c1d1ee-b9e0-11f0-b672-0a58a9feac02
DTSTAMP:20251105T004619Z
SUMMARY:School Tour: Calendly Sign Up!
URL;VALUE=URI:https://www.kippsocal.org/iluminar/calendar/8777768/school-to
 ur-calendly-sign-up-clone-clone-clone
DTSTART:20251210T170000Z
DTEND:20251210T200000Z
END:VEVENT
END:VCALENDAR
