BEGIN:VCALENDAR
VERSION:2.0
PRODID:SchoolNow
CALSCALE:GREGORIAN
BEGIN:VEVENT
UID:ad5fa3ea-b9e0-11f0-a3a3-0a58a9feac02
DTSTAMP:20251105T004508Z
SUMMARY:School Tour: Calendly Sign Up!
URL;VALUE=URI:https://www.kippsocal.org/iluminar/calendar/8777767/school-to
 ur-calendly-sign-up-clone-clone
DTSTART:20251203T170000Z
DTEND:20251203T200000Z
END:VEVENT
END:VCALENDAR
